BEGIN:VCALENDAR
VERSION:2.0
PRODID:-//▷ Información Turística de Ronda - ECPv6.15.16//NONSGML v1.0//EN
CALSCALE:GREGORIAN
METHOD:PUBLISH
X-ORIGINAL-URL:https://info.turismoderonda.es
X-WR-CALDESC:Eventos para ▷ Información Turística de Ronda
REFRESH-INTERVAL;VALUE=DURATION:PT1H
X-Robots-Tag:noindex
X-PUBLISHED-TTL:PT1H
BEGIN:VTIMEZONE
TZID:UTC
BEGIN:STANDARD
TZOFFSETFROM:+0000
TZOFFSETTO:+0000
TZNAME:UTC
DTSTART:20210101T000000
END:STANDARD
END:VTIMEZONE
BEGIN:VEVENT
DTSTART;TZID=UTC:20221120T090000
DTEND;TZID=UTC:20221120T140000
DTSTAMP:20260419T155638
CREATED:20220502T220424Z
LAST-MODIFIED:20220502T220429Z
UID:10407-1668934800-1668952800@info.turismoderonda.es
SUMMARY:Congreso Internacional de Geografía
DESCRIPTION:Congreso Internacional de Geografía: La Serranía de Ronda .Territorio\, naturaleza \, paisaje e identidad.  \n\n\n\nParte 4-Grandes retos presente y futuro .
URL:https://info.turismoderonda.es/agenda/congreso-internacional-de-geografia/
CATEGORIES:Congreso
ATTACH;FMTTYPE=image/jpeg:https://info.turismoderonda.es/wp-content/uploads/2022/04/iers-congreso-geografia-2022-b.jpg
END:VEVENT
END:VCALENDAR