BEGIN:VCALENDAR
VERSION:2.0
PRODID:-//▷ Información Turística de Ronda - ECPv6.15.16//NONSGML v1.0//EN
CALSCALE:GREGORIAN
METHOD:PUBLISH
X-ORIGINAL-URL:https://info.turismoderonda.es
X-WR-CALDESC:Eventos para ▷ Información Turística de Ronda
REFRESH-INTERVAL;VALUE=DURATION:PT1H
X-Robots-Tag:noindex
X-PUBLISHED-TTL:PT1H
BEGIN:VTIMEZONE
TZID:UTC
BEGIN:STANDARD
TZOFFSETFROM:+0000
TZOFFSETTO:+0000
TZNAME:UTC
DTSTART:20230101T000000
END:STANDARD
END:VTIMEZONE
BEGIN:VEVENT
DTSTART;TZID=UTC:20240510T000000
DTEND;TZID=UTC:20240512T235959
DTSTAMP:20260424T090205
CREATED:20240113T190111Z
LAST-MODIFIED:20240113T191502Z
UID:13480-1715299200-1715558399@info.turismoderonda.es
SUMMARY:101 KM XXIV Edición
DESCRIPTION:La prueba de los 101 km en 24 horas en su XXIV edición es una prueba cívico-militar que se organiza en la serranía de Ronda y que tienen su centro principal de organización en la localidad de Ronda y más concretamente en el Acuartelamiento de Montejaque\, sede de las Unidades de La Legión destacadas en esta plaza. \n\n\n\nLa prueba es organizada por el Club Deportivo La Legión 101 km\, cuyo Presidente es el Coronel Jefe del 4º Tercio de La Legión. \n\n\n\nLa prueba tendrá lugar el próximo fin de semana del 11-12 de mayo de 2.024\, con salida y llegada en la localidad de Ronda\, atravesando los términos municipales\, además\, de Arriate\, Alcalá del Valle\, Setenil de las Bodegas\, Montejaque y Benaoján. \n\n\n\nLos objetivos de la prueba de los 101km24 h organizados por La Legión\, son los siguientes: \n\n\n\n\nEstrechar lazos entre el Ejército de Tierra y la sociedad de la serranía de Ronda\, de la que La Legión se siente parte indisoluble.\n\n\n\nContribuir a fomentar la práctica saludable del deporte y del respeto al Medio Ambiente en la serranía.\n\n\n\nDar a conocer a todos los participantes y familiares que los acompañan La Legión y sus valores.\n\n\n\nEl apoyo económico a entidades benéficas locales\, tras el balance de cuentas.\n\n\n\n\n\n\n\n\n2-DESCRIPCIÓN DE LA PRUEBA \n\n\n\nLa prueba consiste en realizar un recorrido de 101 km que transcurre por pistas de tierra\, sendas y algún tramo por carretera\, atravesando los citados pueblos de la serranía y que debe cubrirse en un máximo de 12 horas para el personal que participa en la modalidad de MTB y en 24 horas para aquellos que optan por hacerla en las modalidades de MARCHA o EQUIPO. \n\n\n\nAdemás\, existe la carrera infantil\, que se lleva a cabo por las calles de Ronda el mismo día de la prueba oficial y que tendrá su salida y llegada en los mismos lugares que la carrera de los 101 km. \n\n\n\n\nMARCHA Y EQUIPOS:\n\nDistancia: 101 km\n\n\n\nDesnivel acumulado: 2.819\, 50 m\n\n\n\nDuración: 24 h\n\n\n\nNº de avituallamientos: 20\n\n\n\nNº de participantes: 4.200 / 1.100\n\n\n\nFecha-hora de salida: 11MAY a las 09:30 h\n\n\n\n\n\nMTB:\n\nDistancia: 101 km\n\n\n\nDesnivel acumulado: 2.968\,40 m\n\n\n\nDuración: 12 h\n\n\n\nNº de avituallamientos: 11\n\n\n\nNº de participantes: 3.700\n\n\n\nFecha-hora de salida: 11MAY a las 08.45 h\n\n\n\n\n\nCARRERA INFANTIL:\n\nDistancia: 3 km\n\n\n\nDesnivel acumulado:\n\n\n\nDuración: sin límite de tiempo\n\n\n\nNº de avituallamientos: en meta\n\n\n\nNº de participantes: 1.200\n\n\n\nFecha-hora de salida: 11MAY a las 10.45 h\n\n\n\n\n\n\nA modo de resumen\, a continuación pueden apreciarse las cifras de participantes por modalidad y otros datos de interés: \n\n\n\nMODALIDADNº DE PLAZASDISTANCIANº DE AVITUALLA.DESNIVELDÍA (Mayo)HORARIO INICIO-CIERREMARCHA4.200101km202.819\,5 m11-1209.30-09.30EQUIPOS1.100MTB3.700112.968\,4 m1108.45-20.45C. INFANTIL1.2003 kmEn metam10.45 H
URL:https://info.turismoderonda.es/agenda/101-km-xxiv-edicion/
LOCATION:Ronda\, Ronda\, 29400\, España
CATEGORIES:Evento deportivo
ATTACH;FMTTYPE=image/jpeg:https://info.turismoderonda.es/wp-content/uploads/2024/01/101km24.jpeg
END:VEVENT
END:VCALENDAR