BEGIN:VCALENDAR
VERSION:2.0
PRODID:-//▷ Información Turística de Ronda - ECPv6.15.16//NONSGML v1.0//EN
CALSCALE:GREGORIAN
METHOD:PUBLISH
X-WR-CALNAME:▷ Información Turística de Ronda
X-ORIGINAL-URL:https://info.turismoderonda.es
X-WR-CALDESC:Eventos para ▷ Información Turística de Ronda
REFRESH-INTERVAL;VALUE=DURATION:PT1H
X-Robots-Tag:noindex
X-PUBLISHED-TTL:PT1H
BEGIN:VTIMEZONE
TZID:UTC
BEGIN:STANDARD
TZOFFSETFROM:+0000
TZOFFSETTO:+0000
TZNAME:UTC
DTSTART:20240101T000000
END:STANDARD
END:VTIMEZONE
BEGIN:VEVENT
DTSTART;TZID=UTC:20250823T210000
DTEND;TZID=UTC:20250823T210000
DTSTAMP:20260422T192836
CREATED:20250820T174546Z
LAST-MODIFIED:20250820T174549Z
UID:16673-1755982800-1755982800@info.turismoderonda.es
SUMMARY:Concierto Delirios de Cherry
DESCRIPTION:Entrada libre
URL:https://info.turismoderonda.es/agenda/concierto-delirios-de-cherry/
LOCATION:Restaurante el Morabito\, Plaza de María Auxiliadora nº 2\, Ronda\, España\, Spain
CATEGORIES:Concierto
ATTACH;FMTTYPE=image/jpeg:https://info.turismoderonda.es/wp-content/uploads/2025/08/Agosto-23.2025-Concierto-en-el-Morabito.jpg
END:VEVENT
BEGIN:VEVENT
DTSTART;TZID=UTC:20250823T220000
DTEND;TZID=UTC:20250823T220000
DTSTAMP:20260422T192836
CREATED:20250704T113736Z
LAST-MODIFIED:20250704T113739Z
UID:16486-1755986400-1755986400@info.turismoderonda.es
SUMMARY:LV Festival Cante Grande de Ronda
DESCRIPTION:
URL:https://info.turismoderonda.es/agenda/lv-festival-cante-grande-de-ronda/
LOCATION:Murallas del Carmen\, C. Armiñán\, 14\, 29400 Ronda\, Málaga\, Ronda\, 29400\, Spain
CATEGORIES:Concierto,Festival,Flamenco,Música
ATTACH;FMTTYPE=image/jpeg:https://info.turismoderonda.es/wp-content/uploads/2025/07/LV.jpg
END:VEVENT
END:VCALENDAR