BEGIN:VCALENDAR
VERSION:2.0
PRODID:-//▷ Información Turística de Ronda - ECPv6.15.16//NONSGML v1.0//EN
CALSCALE:GREGORIAN
METHOD:PUBLISH
X-ORIGINAL-URL:https://info.turismoderonda.es
X-WR-CALDESC:Eventos para ▷ Información Turística de Ronda
REFRESH-INTERVAL;VALUE=DURATION:PT1H
X-Robots-Tag:noindex
X-PUBLISHED-TTL:PT1H
BEGIN:VTIMEZONE
TZID:UTC
BEGIN:STANDARD
TZOFFSETFROM:+0000
TZOFFSETTO:+0000
TZNAME:UTC
DTSTART:20240101T000000
END:STANDARD
END:VTIMEZONE
BEGIN:VEVENT
DTSTART;TZID=UTC:20250130T120000
DTEND;TZID=UTC:20250130T120000
DTSTAMP:20260420T230440
CREATED:20250113T155647Z
LAST-MODIFIED:20250113T155650Z
UID:14306-1738238400-1738238400@info.turismoderonda.es
SUMMARY:CONFERENCIA-VIVA EL AMOR DEL BUENO. OTRAS FORMAS DE VIVIR EL AMOR SON POSIBLE- PSICOWOMAN
DESCRIPTION:
URL:https://info.turismoderonda.es/agenda/conferencia-viva-el-amor-del-bueno-otras-formas-de-vivir-el-amor-son-posible-psicowoman/
LOCATION:Teatro Vicente Espinel\, Alameda del Tajo . Paseo de Orson Wells\, Ronda\, España
CATEGORIES:Presentación
ATTACH;FMTTYPE=image/jpeg:https://info.turismoderonda.es/wp-content/uploads/2025/01/Enero-30.2025-Conferencia-psicowoman.jpg
END:VEVENT
END:VCALENDAR