BEGIN:VCALENDAR
VERSION:2.0
PRODID:-//▷ Información Turística de Ronda - ECPv6.15.16//NONSGML v1.0//EN
CALSCALE:GREGORIAN
METHOD:PUBLISH
X-ORIGINAL-URL:https://info.turismoderonda.es
X-WR-CALDESC:Eventos para ▷ Información Turística de Ronda
REFRESH-INTERVAL;VALUE=DURATION:PT1H
X-Robots-Tag:noindex
X-PUBLISHED-TTL:PT1H
BEGIN:VTIMEZONE
TZID:UTC
BEGIN:STANDARD
TZOFFSETFROM:+0000
TZOFFSETTO:+0000
TZNAME:UTC
DTSTART:20250101T000000
END:STANDARD
END:VTIMEZONE
BEGIN:VEVENT
DTSTART;TZID=UTC:20260517T180000
DTEND;TZID=UTC:20260517T180000
DTSTAMP:20260426T012700
CREATED:20260422T123936Z
LAST-MODIFIED:20260424T102549Z
UID:19772-1779040800-1779040800@info.turismoderonda.es
SUMMARY:Salida a la Aldea del Rocío de la Muy Venerable Hermandad Nuestra Señora del Rocío de Ronda.
DESCRIPTION:
URL:https://info.turismoderonda.es/agenda/salida-a-la-aldea-del-rocio-de-la-muy-venerable-hermandad-nuestra-senora-del-rocio-de-ronda/
LOCATION:Colegiata Santa María La Mayor de Ronda\, Plaza Duquesa de Parcent\, Ronda\, 29400
CATEGORIES:Religioso
ATTACH;FMTTYPE=image/jpeg:https://info.turismoderonda.es/wp-content/uploads/2026/04/Salida-Hermandad-del-Rocio-1.jpg
END:VEVENT
END:VCALENDAR