BEGIN:VCALENDAR
VERSION:2.0
PRODID:-//▷ Información Turística de Ronda - ECPv6.15.16//NONSGML v1.0//EN
CALSCALE:GREGORIAN
METHOD:PUBLISH
X-ORIGINAL-URL:https://info.turismoderonda.es
X-WR-CALDESC:Eventos para ▷ Información Turística de Ronda
REFRESH-INTERVAL;VALUE=DURATION:PT1H
X-Robots-Tag:noindex
X-PUBLISHED-TTL:PT1H
BEGIN:VTIMEZONE
TZID:UTC
BEGIN:STANDARD
TZOFFSETFROM:+0000
TZOFFSETTO:+0000
TZNAME:UTC
DTSTART:20240101T000000
END:STANDARD
END:VTIMEZONE
BEGIN:VEVENT
DTSTART;TZID=UTC:20251017T100000
DTEND;TZID=UTC:20251017T100000
DTSTAMP:20260426T031504
CREATED:20251008T083404Z
LAST-MODIFIED:20251008T083407Z
UID:16926-1760695200-1760695200@info.turismoderonda.es
SUMMARY:Semana de la alimentación saludable.
DESCRIPTION:10:00 Taller «Alimentación y menopausia». Sala de formación en el Centro de Salud Ronda Sur ( Calle San Vicente de Paul) \n\n\n\n11:00 Taller de cocina saludable. Centro de Participación activa ( Calle los Vicentes\,13B\,bajo). Plazas limitadas.
URL:https://info.turismoderonda.es/agenda/semana-de-la-alimentacion-saludable/
LOCATION:Centro de Salud Ronda Sur\, Calle San Vicente de Paul nº 0\, RONDA\, Spain
CATEGORIES:Taller
ATTACH;FMTTYPE=image/jpeg:https://info.turismoderonda.es/wp-content/uploads/2025/10/Oct-14-al-17.Semana-de-la-Alimentacion-Saludable.jpg
END:VEVENT
END:VCALENDAR