BEGIN:VCALENDAR
VERSION:2.0
PRODID:-//▷ Información Turística de Ronda - ECPv6.15.16//NONSGML v1.0//EN
CALSCALE:GREGORIAN
METHOD:PUBLISH
X-ORIGINAL-URL:https://info.turismoderonda.es
X-WR-CALDESC:Eventos para ▷ Información Turística de Ronda
REFRESH-INTERVAL;VALUE=DURATION:PT1H
X-Robots-Tag:noindex
X-PUBLISHED-TTL:PT1H
BEGIN:VTIMEZONE
TZID:UTC
BEGIN:STANDARD
TZOFFSETFROM:+0000
TZOFFSETTO:+0000
TZNAME:UTC
DTSTART:20220101T000000
END:STANDARD
END:VTIMEZONE
BEGIN:VEVENT
DTSTART;TZID=UTC:20230303T183000
DTEND;TZID=UTC:20230303T200000
DTSTAMP:20260425T161509
CREATED:20230224T221149Z
LAST-MODIFIED:20230224T221153Z
UID:12613-1677868200-1677873600@info.turismoderonda.es
SUMMARY:Teatro familiar Pepo y Pepe
DESCRIPTION:Sinopsis: Hola\, soy Pepo y tengo 8 años. Me gusta jugar con mi patinete nuevo y también tengo una colección de caracolas. Muchas veces voy a visitar a mi amigo Pepe pero no es un niño como yo; él tiene…umm…anda\, no sé cuántos años tiene porque a veces me dice que tiene más años que Matusalén y yo no conozco a ese señor. Tendré que esperar a su cumpleaños. Me hace reír. Con Pepe juego mucho y también me lee sus libros y yo le cuento mis cosas\, aunque a veces me dice que le pongo la cabeza como un bombo. Bueno\, espero que me sigas conociendo y que también seamos amigos y amigas. Adiós\, que tengo que visitar a Pepe. \n\n\n\nPepo y Pepe\, una historia de amistad intergeneracional donde la edad y la imaginación se cruzan en el destino.
URL:https://info.turismoderonda.es/agenda/teatro-familiar-pepo-y-pepe/
LOCATION:Teatro Vicente Espinel\, Alameda del Tajo . Paseo de Orson Wells\, Ronda\, España
CATEGORIES:Infantil,Teatro
ATTACH;FMTTYPE=image/jpeg:https://info.turismoderonda.es/wp-content/uploads/2023/02/marzo-3-2023-pepo.jpg
END:VEVENT
BEGIN:VEVENT
DTSTART;TZID=UTC:20230310T203000
DTEND;TZID=UTC:20230310T203000
DTSTAMP:20260425T161509
CREATED:20230215T225215Z
LAST-MODIFIED:20230215T225217Z
UID:12482-1678480200-1678480200@info.turismoderonda.es
SUMMARY:Ronda\, verdad infinita
DESCRIPTION:Actuación de cuadro de actrices\, actores y el grupo de música Entreamigos.
URL:https://info.turismoderonda.es/agenda/ronda-verdad-infinita/
LOCATION:Teatro Vicente Espinel\, Alameda del Tajo . Paseo de Orson Wells\, Ronda\, España
CATEGORIES:Concierto,Teatro
ATTACH;FMTTYPE=image/jpeg:https://info.turismoderonda.es/wp-content/uploads/2023/02/marzo-10-y-12-2023-Rondaverdad.jpeg
END:VEVENT
BEGIN:VEVENT
DTSTART;TZID=UTC:20230312T120000
DTEND;TZID=UTC:20230312T120000
DTSTAMP:20260425T161509
CREATED:20230215T225637Z
LAST-MODIFIED:20230215T225639Z
UID:12489-1678622400-1678622400@info.turismoderonda.es
SUMMARY:Ronda\, verdad infinita
DESCRIPTION:Actuación de cuadro de actrices\, actores y el grupo de música Entreamigos.
URL:https://info.turismoderonda.es/agenda/ronda-verdad-infinita-2/
LOCATION:Teatro Vicente Espinel\, Alameda del Tajo . Paseo de Orson Wells\, Ronda\, España
CATEGORIES:Concierto,Teatro
ATTACH;FMTTYPE=image/jpeg:https://info.turismoderonda.es/wp-content/uploads/2023/02/marzo-10-y-12-2023-Rondaverdad.jpeg
END:VEVENT
BEGIN:VEVENT
DTSTART;TZID=UTC:20230318T193000
DTEND;TZID=UTC:20230318T193000
DTSTAMP:20260425T161509
CREATED:20230307T213750Z
LAST-MODIFIED:20230307T213752Z
UID:12715-1679167800-1679167800@info.turismoderonda.es
SUMMARY:Tragabuches\, la perdición por una mujer
DESCRIPTION:
URL:https://info.turismoderonda.es/agenda/tragabuches-la-perdicion-por-una-mujer/
LOCATION:Teatro Vicente Espinel\, Alameda del Tajo . Paseo de Orson Wells\, Ronda\, España
CATEGORIES:Teatro
ATTACH;FMTTYPE=image/jpeg:https://info.turismoderonda.es/wp-content/uploads/2023/03/rec.jpeg
END:VEVENT
BEGIN:VEVENT
DTSTART;TZID=UTC:20230325T090000
DTEND;TZID=UTC:20230325T130000
DTSTAMP:20260425T161509
CREATED:20230325T114517Z
LAST-MODIFIED:20230325T114604Z
UID:12964-1679734800-1679749200@info.turismoderonda.es
SUMMARY:Teatro Postdramático (I)
DESCRIPTION:Máster class-Taller
URL:https://info.turismoderonda.es/agenda/teatro-postdramatico-i/
LOCATION:Sala Puerta Amarilla\, Calle Bulería nº4\, Ronda\, 29400\, España
CATEGORIES:Taller,Teatro
ATTACH;FMTTYPE=image/jpeg:https://info.turismoderonda.es/wp-content/uploads/2023/03/spa.jpeg
END:VEVENT
END:VCALENDAR