BEGIN:VCALENDAR
VERSION:2.0
PRODID:-//▷ Información Turística de Ronda - ECPv6.15.16//NONSGML v1.0//EN
CALSCALE:GREGORIAN
METHOD:PUBLISH
X-WR-CALNAME:▷ Información Turística de Ronda
X-ORIGINAL-URL:https://info.turismoderonda.es
X-WR-CALDESC:Eventos para ▷ Información Turística de Ronda
REFRESH-INTERVAL;VALUE=DURATION:PT1H
X-Robots-Tag:noindex
X-PUBLISHED-TTL:PT1H
BEGIN:VTIMEZONE
TZID:UTC
BEGIN:STANDARD
TZOFFSETFROM:+0000
TZOFFSETTO:+0000
TZNAME:UTC
DTSTART:20230101T000000
END:STANDARD
END:VTIMEZONE
BEGIN:VEVENT
DTSTART;TZID=UTC:20240510T000000
DTEND;TZID=UTC:20240512T235959
DTSTAMP:20260424T142533
CREATED:20240113T190111Z
LAST-MODIFIED:20240113T191502Z
UID:13480-1715299200-1715558399@info.turismoderonda.es
SUMMARY:101 KM XXIV Edición
DESCRIPTION:La prueba de los 101 km en 24 horas en su XXIV edición es una prueba cívico-militar que se organiza en la serranía de Ronda y que tienen su centro principal de organización en la localidad de Ronda y más concretamente en el Acuartelamiento de Montejaque\, sede de las Unidades de La Legión destacadas en esta plaza. \n\n\n\nLa prueba es organizada por el Club Deportivo La Legión 101 km\, cuyo Presidente es el Coronel Jefe del 4º Tercio de La Legión. \n\n\n\nLa prueba tendrá lugar el próximo fin de semana del 11-12 de mayo de 2.024\, con salida y llegada en la localidad de Ronda\, atravesando los términos municipales\, además\, de Arriate\, Alcalá del Valle\, Setenil de las Bodegas\, Montejaque y Benaoján. \n\n\n\nLos objetivos de la prueba de los 101km24 h organizados por La Legión\, son los siguientes: \n\n\n\n\nEstrechar lazos entre el Ejército de Tierra y la sociedad de la serranía de Ronda\, de la que La Legión se siente parte indisoluble.\n\n\n\nContribuir a fomentar la práctica saludable del deporte y del respeto al Medio Ambiente en la serranía.\n\n\n\nDar a conocer a todos los participantes y familiares que los acompañan La Legión y sus valores.\n\n\n\nEl apoyo económico a entidades benéficas locales\, tras el balance de cuentas.\n\n\n\n\n\n\n\n\n2-DESCRIPCIÓN DE LA PRUEBA \n\n\n\nLa prueba consiste en realizar un recorrido de 101 km que transcurre por pistas de tierra\, sendas y algún tramo por carretera\, atravesando los citados pueblos de la serranía y que debe cubrirse en un máximo de 12 horas para el personal que participa en la modalidad de MTB y en 24 horas para aquellos que optan por hacerla en las modalidades de MARCHA o EQUIPO. \n\n\n\nAdemás\, existe la carrera infantil\, que se lleva a cabo por las calles de Ronda el mismo día de la prueba oficial y que tendrá su salida y llegada en los mismos lugares que la carrera de los 101 km. \n\n\n\n\nMARCHA Y EQUIPOS:\n\nDistancia: 101 km\n\n\n\nDesnivel acumulado: 2.819\, 50 m\n\n\n\nDuración: 24 h\n\n\n\nNº de avituallamientos: 20\n\n\n\nNº de participantes: 4.200 / 1.100\n\n\n\nFecha-hora de salida: 11MAY a las 09:30 h\n\n\n\n\n\nMTB:\n\nDistancia: 101 km\n\n\n\nDesnivel acumulado: 2.968\,40 m\n\n\n\nDuración: 12 h\n\n\n\nNº de avituallamientos: 11\n\n\n\nNº de participantes: 3.700\n\n\n\nFecha-hora de salida: 11MAY a las 08.45 h\n\n\n\n\n\nCARRERA INFANTIL:\n\nDistancia: 3 km\n\n\n\nDesnivel acumulado:\n\n\n\nDuración: sin límite de tiempo\n\n\n\nNº de avituallamientos: en meta\n\n\n\nNº de participantes: 1.200\n\n\n\nFecha-hora de salida: 11MAY a las 10.45 h\n\n\n\n\n\n\nA modo de resumen\, a continuación pueden apreciarse las cifras de participantes por modalidad y otros datos de interés: \n\n\n\nMODALIDADNº DE PLAZASDISTANCIANº DE AVITUALLA.DESNIVELDÍA (Mayo)HORARIO INICIO-CIERREMARCHA4.200101km202.819\,5 m11-1209.30-09.30EQUIPOS1.100MTB3.700112.968\,4 m1108.45-20.45C. INFANTIL1.2003 kmEn metam10.45 H
URL:https://info.turismoderonda.es/agenda/101-km-xxiv-edicion/
LOCATION:Ronda\, Ronda\, 29400\, España
CATEGORIES:Evento deportivo
ATTACH;FMTTYPE=image/jpeg:https://info.turismoderonda.es/wp-content/uploads/2024/01/101km24.jpeg
END:VEVENT
BEGIN:VEVENT
DTSTART;TZID=UTC:20240607T000000
DTEND;TZID=UTC:20240609T235959
DTSTAMP:20260424T142533
CREATED:20240113T223403Z
LAST-MODIFIED:20240113T223405Z
UID:13533-1717718400-1717977599@info.turismoderonda.es
SUMMARY:Ronda Romántica 2024
DESCRIPTION:Próximamente más información
URL:https://info.turismoderonda.es/agenda/ronda-romantica-2024/
LOCATION:España
CATEGORIES:Fiestas y tradiciones populares
ATTACH;FMTTYPE=image/jpeg:https://info.turismoderonda.es/wp-content/uploads/2024/01/07-06-24-RR2024-1.jpeg
END:VEVENT
BEGIN:VEVENT
DTSTART;TZID=UTC:20240701T203000
DTEND;TZID=UTC:20240702T213000
DTSTAMP:20260424T142533
CREATED:20240630T124107Z
LAST-MODIFIED:20240630T124803Z
UID:13865-1719865800-1719955800@info.turismoderonda.es
SUMMARY:XXIV Semana de la Música de Ronda
DESCRIPTION:
URL:https://info.turismoderonda.es/agenda/xxiv-semana-de-la-musica-de-ronda/
LOCATION:Biblioteca Real Maestranza de Caballería de Ronda\, Calle Virgen de la Paz nº17\, Ronda\, 29400\, España
CATEGORIES:Concierto
ATTACH;FMTTYPE=image/jpeg:https://info.turismoderonda.es/wp-content/uploads/2024/06/0107-a-0507-2024.jpg
END:VEVENT
BEGIN:VEVENT
DTSTART;TZID=UTC:20240702T203000
DTEND;TZID=UTC:20240702T203000
DTSTAMP:20260424T142533
CREATED:20240630T095640Z
LAST-MODIFIED:20240630T095642Z
UID:13838-1719952200-1719952200@info.turismoderonda.es
SUMMARY:Ronda Flamenca
DESCRIPTION:Espectáculo de Flamenco tradicional\, guitarra\, cante y baile
URL:https://info.turismoderonda.es/agenda/ronda-flamenca/
LOCATION:Círculo de Artistas\, Plaza del Socorro\, 12\, Ronda\, 29400\, España
CATEGORIES:Flamenco
ATTACH;FMTTYPE=image/jpeg:https://info.turismoderonda.es/wp-content/uploads/2024/06/Ronda-flamenca.jpg
END:VEVENT
BEGIN:VEVENT
DTSTART;TZID=UTC:20240704T203000
DTEND;TZID=UTC:20240704T203000
DTSTAMP:20260424T142533
CREATED:20240630T100204Z
LAST-MODIFIED:20240630T100206Z
UID:13844-1720125000-1720125000@info.turismoderonda.es
SUMMARY:Ronda Flamenca
DESCRIPTION:Espectáculo de Flamenco tradicional\, guitarra\, cante y baile
URL:https://info.turismoderonda.es/agenda/ronda-flamenca-2/
LOCATION:Círculo de Artistas\, Plaza del Socorro\, 12\, Ronda\, 29400\, España
CATEGORIES:Flamenco
ATTACH;FMTTYPE=image/jpeg:https://info.turismoderonda.es/wp-content/uploads/2024/06/Ronda-flamenca.jpg
END:VEVENT
BEGIN:VEVENT
DTSTART;TZID=UTC:20240705T183000
DTEND;TZID=UTC:20240705T183000
DTSTAMP:20260424T142533
CREATED:20240630T103832Z
LAST-MODIFIED:20240630T103835Z
UID:13851-1720204200-1720204200@info.turismoderonda.es
SUMMARY:Origen Flamenco. Espectáculo Flamenco
DESCRIPTION:Espectáculo de Flamenco Natalia Martín\, Roberto Spano y Nico Carreras
URL:https://info.turismoderonda.es/agenda/origen-flamenco-espectaculo-flamenco/
LOCATION:Vinalium\, C/ Calvo Asensio nº 8 Bajo\, Ronda\, 29400\, España
CATEGORIES:Flamenco
ATTACH;FMTTYPE=image/jpeg:https://info.turismoderonda.es/wp-content/uploads/2024/06/Origen-flamenco-Vinalium.jpeg
END:VEVENT
BEGIN:VEVENT
DTSTART;TZID=UTC:20240709T203000
DTEND;TZID=UTC:20240709T203000
DTSTAMP:20260424T142533
CREATED:20240709T203049Z
LAST-MODIFIED:20240630T121503Z
UID:13858-1720557000-1720557000@info.turismoderonda.es
SUMMARY:Ronda Flamenca
DESCRIPTION:Espectáculo de Flamenco tradicional\, guitarra\, cante y baile
URL:https://info.turismoderonda.es/agenda/ronda-flamenca-copy/
LOCATION:Círculo de Artistas\, Plaza del Socorro\, 12\, Ronda\, 29400\, España
CATEGORIES:Flamenco
ATTACH;FMTTYPE=image/jpeg:https://info.turismoderonda.es/wp-content/uploads/2024/06/Ronda-flamenca.jpg
END:VEVENT
BEGIN:VEVENT
DTSTART;TZID=UTC:20241130T000000
DTEND;TZID=UTC:20241130T000000
DTSTAMP:20260424T142533
CREATED:20241126T094917Z
LAST-MODIFIED:20241126T094949Z
UID:14175-1732924800-1732924800@info.turismoderonda.es
SUMMARY:XV GALA HOMENAJE DEPORTISTAS RONDEÑOS
DESCRIPTION:
URL:https://info.turismoderonda.es/agenda/xv-gala-homenaje-deportistas-rondenos/
LOCATION:Teatro Vicente Espinel\, Alameda del Tajo . Paseo de Orson Wells\, Ronda\, España
CATEGORIES:Evento deportivo,Gala
ATTACH;FMTTYPE=image/jpeg:https://info.turismoderonda.es/wp-content/uploads/2024/11/XV-GALA-DEL-DEPORTE-30-NOV.jpg
END:VEVENT
BEGIN:VEVENT
DTSTART;TZID=UTC:20241214T203000
DTEND;TZID=UTC:20241214T223000
DTSTAMP:20260424T142533
CREATED:20241212T130452Z
LAST-MODIFIED:20241212T142445Z
UID:14196-1734208200-1734215400@info.turismoderonda.es
SUMMARY:LOS MISERABLES-MUSICAL
DESCRIPTION:
URL:https://info.turismoderonda.es/agenda/los-miserables-musical/
LOCATION:Teatro Vicente Espinel\, Alameda del Tajo . Paseo de Orson Wells\, Ronda\, España
CATEGORIES:Musical
ATTACH;FMTTYPE=image/jpeg:https://info.turismoderonda.es/wp-content/uploads/2024/12/Dic-14.-2024-Musical-Los-Miserables-1.jpg
END:VEVENT
BEGIN:VEVENT
DTSTART;TZID=UTC:20250111T110000
DTEND;TZID=UTC:20250112T110000
DTSTAMP:20260424T142533
CREATED:20250110T150358Z
LAST-MODIFIED:20250111T101535Z
UID:14249-1736593200-1736679600@info.turismoderonda.es
SUMMARY:RONDA GO¡ SALÓN DEL MANGA
DESCRIPTION:Videojuegos\, talleres\, juegos de mesa\, etc
URL:https://info.turismoderonda.es/agenda/ronda-go-salon-del-manga/
LOCATION:Palacio de Congresos y Exposiciones Convento de Santo Domingo\, C/Armiñán nº1\, Ronda\, Málaga\, 29400\, España
CATEGORIES:Taller
ATTACH;FMTTYPE=image/jpeg:https://info.turismoderonda.es/wp-content/uploads/2025/01/Ene-11-y-12-2025-Salon-Manga.jpg
END:VEVENT
BEGIN:VEVENT
DTSTART;TZID=UTC:20250111T230000
DTEND;TZID=UTC:20250111T233000
DTSTAMP:20260424T142533
CREATED:20250110T154703Z
LAST-MODIFIED:20250111T101437Z
UID:14254-1736636400-1736638200@info.turismoderonda.es
SUMMARY:CONCIERTO DE JAZZ - ANA CISNEROS QUARTET
DESCRIPTION:
URL:https://info.turismoderonda.es/agenda/concierto-de-jazz-ana-cisneros-quartet/
LOCATION:SALA DE CONCIERTOS ASOCIACIÓN RONDAJAZZ.\, CALLE GUADALETE Nº 10\, RONDA
CATEGORIES:Concierto
ATTACH;FMTTYPE=image/jpeg:https://info.turismoderonda.es/wp-content/uploads/2025/01/ENERO-11.2025-CONCIERTO-DE-JAZZ-ANA-CISNEROS-QUARTET.jpg
END:VEVENT
BEGIN:VEVENT
DTSTART;TZID=UTC:20250112T103000
DTEND;TZID=UTC:20250112T140000
DTSTAMP:20260424T142533
CREATED:20250111T101310Z
LAST-MODIFIED:20250111T101312Z
UID:14261-1736677800-1736690400@info.turismoderonda.es
SUMMARY:XVI CROSS CIUDAD DE RONDA
DESCRIPTION:
URL:https://info.turismoderonda.es/agenda/xvi-cross-ciudad-de-ronda/
LOCATION:PARQUE PERIURBANO DE LA DEHESA\, RONDA
CATEGORIES:Evento deportivo
ATTACH;FMTTYPE=image/jpeg:https://info.turismoderonda.es/wp-content/uploads/2025/01/ENERO-12.2025-CROSS-CIUDAD-DE-RONDA.jpg
END:VEVENT
BEGIN:VEVENT
DTSTART;TZID=UTC:20250118T200000
DTEND;TZID=UTC:20250118T210000
DTSTAMP:20260424T142533
CREATED:20250111T110420Z
LAST-MODIFIED:20250111T124756Z
UID:14266-1737230400-1737234000@info.turismoderonda.es
SUMMARY:CONCIERTO EL ALMA ENTRE CUERDAS
DESCRIPTION:Entradas en www.giglon.com \, en la sede de Ayuca (calle Jerez) y en ferretería Togui
URL:https://info.turismoderonda.es/agenda/concierto-el-alma-entre-cuerdas/
LOCATION:Teatro Vicente Espinel\, Alameda del Tajo . Paseo de Orson Wells\, Ronda\, España
CATEGORIES:Concierto
ATTACH;FMTTYPE=image/jpeg:https://info.turismoderonda.es/wp-content/uploads/2025/01/ENERO-18.-2025.-CONCIERTO-EL-ALMA-ENTRE-CUERDAS-.jpg
END:VEVENT
BEGIN:VEVENT
DTSTART;TZID=UTC:20250124T200000
DTEND;TZID=UTC:20250125T200000
DTSTAMP:20260424T142533
CREATED:20241226T123047Z
LAST-MODIFIED:20250123T103832Z
UID:14217-1737748800-1737835200@info.turismoderonda.es
SUMMARY:BODAS DE SANGRE DE FEDERICO GARCÍA LORCA
DESCRIPTION:
URL:https://info.turismoderonda.es/agenda/bodas-de-sangre-de-federico-garcia-lorca/
LOCATION:Teatro Vicente Espinel\, Alameda del Tajo . Paseo de Orson Wells\, Ronda\, España
ATTACH;FMTTYPE=image/jpeg:https://info.turismoderonda.es/wp-content/uploads/2024/12/Enero-24-y-25.-2025-Espectaculo-Bodas-de-Sangre.jpg
END:VEVENT
BEGIN:VEVENT
DTSTART;TZID=UTC:20250130T120000
DTEND;TZID=UTC:20250130T120000
DTSTAMP:20260424T142533
CREATED:20250113T155647Z
LAST-MODIFIED:20250113T155650Z
UID:14306-1738238400-1738238400@info.turismoderonda.es
SUMMARY:CONFERENCIA-VIVA EL AMOR DEL BUENO. OTRAS FORMAS DE VIVIR EL AMOR SON POSIBLE- PSICOWOMAN
DESCRIPTION:
URL:https://info.turismoderonda.es/agenda/conferencia-viva-el-amor-del-bueno-otras-formas-de-vivir-el-amor-son-posible-psicowoman/
LOCATION:Teatro Vicente Espinel\, Alameda del Tajo . Paseo de Orson Wells\, Ronda\, España
CATEGORIES:Presentación
ATTACH;FMTTYPE=image/jpeg:https://info.turismoderonda.es/wp-content/uploads/2025/01/Enero-30.2025-Conferencia-psicowoman.jpg
END:VEVENT
BEGIN:VEVENT
DTSTART;TZID=UTC:20250209T113000
DTEND;TZID=UTC:20250209T140000
DTSTAMP:20260424T142533
CREATED:20250111T122910Z
LAST-MODIFIED:20250111T122913Z
UID:14269-1739100600-1739109600@info.turismoderonda.es
SUMMARY:XII CAMINATA SOLIDARIA DE AYUCA
DESCRIPTION:
URL:https://info.turismoderonda.es/agenda/xii-caminata-solidaria-de-ayuca/
LOCATION:Plaza Teniente Arce\, Plaza Teniente Arce\, Ronda\, 29400\, España
CATEGORIES:Evento solidario
ATTACH;FMTTYPE=image/jpeg:https://info.turismoderonda.es/wp-content/uploads/2025/01/FEBRERO-9.2025-CAMINATA-SOLIDARIA-AYUCA-BIS.jpg
END:VEVENT
BEGIN:VEVENT
DTSTART;TZID=UTC:20250214T213000
DTEND;TZID=UTC:20250214T213000
DTSTAMP:20260424T142534
CREATED:20250213T125653Z
LAST-MODIFIED:20250213T125657Z
UID:14470-1739568600-1739568600@info.turismoderonda.es
SUMMARY:NOCHE DE COPLA "ARACELI GONZÁLEZ"
DESCRIPTION:Entrada Libre
URL:https://info.turismoderonda.es/agenda/noche-de-copla-araceli-gonzalez/
LOCATION:Peña Flamenca\, C/ Dolores Ibarruri nº8\, Ronda\, Málaga\, 29400\, España
CATEGORIES:Concierto
ATTACH;FMTTYPE=image/jpeg:https://info.turismoderonda.es/wp-content/uploads/2025/02/feb-14.2025-NOCHE-DE-COPLA-EN-PENA-FLAMENCA.jpg
END:VEVENT
BEGIN:VEVENT
DTSTART;TZID=UTC:20250219T190000
DTEND;TZID=UTC:20250219T190000
DTSTAMP:20260424T142534
CREATED:20250218T164730Z
LAST-MODIFIED:20250218T164739Z
UID:14498-1739991600-1739991600@info.turismoderonda.es
SUMMARY:CONCIERTO "DÍA DE ANDALUCIA" POR ALUMNOS DEL CONSERVATORIO RAMÓN CORRALES
DESCRIPTION:Entrada libre hasta completar aforo
URL:https://info.turismoderonda.es/agenda/concierto-dia-de-andalucia-por-alumnos-del-conservatorio-ramon-corrales/
LOCATION:Teatro Vicente Espinel\, Alameda del Tajo . Paseo de Orson Wells\, Ronda\, España
CATEGORIES:Concierto
END:VEVENT
BEGIN:VEVENT
DTSTART;TZID=UTC:20250221T180000
DTEND;TZID=UTC:20250221T180000
DTSTAMP:20260424T142534
CREATED:20250219T114940Z
LAST-MODIFIED:20250219T114943Z
UID:14500-1740160800-1740160800@info.turismoderonda.es
SUMMARY:CONCIERTO DÍA DE ANDALUCÍA
DESCRIPTION:
URL:https://info.turismoderonda.es/agenda/concierto-dia-de-andalucia-2/
LOCATION:Plaza del Socorro\, Ronda\, 29400\, España
CATEGORIES:Concierto
END:VEVENT
BEGIN:VEVENT
DTSTART;TZID=UTC:20250221T200000
DTEND;TZID=UTC:20250222T200000
DTSTAMP:20260424T142534
CREATED:20250123T104737Z
LAST-MODIFIED:20250123T104740Z
UID:14365-1740168000-1740254400@info.turismoderonda.es
SUMMARY:ESPECTÁCULO "ENTREGAMOS" DE MANU SÁNCHEZ
DESCRIPTION:Venta de entradas en www.giglon.com
URL:https://info.turismoderonda.es/agenda/espectaculo-entregamos-de-manu-sanchez/
LOCATION:Teatro Vicente Espinel\, Alameda del Tajo . Paseo de Orson Wells\, Ronda\, España
CATEGORIES:Humor
ATTACH;FMTTYPE=image/jpeg:https://info.turismoderonda.es/wp-content/uploads/2025/01/Febrero-22.2025-ESPECTACULO-DE-MANU-SANCHEZ.jpg
END:VEVENT
BEGIN:VEVENT
DTSTART;TZID=UTC:20250301T000000
DTEND;TZID=UTC:20250309T000000
DTSTAMP:20260424T142534
CREATED:20250213T132347Z
LAST-MODIFIED:20250213T132352Z
UID:14486-1740787200-1741478400@info.turismoderonda.es
SUMMARY:CARNAVAL DE RONDA 2025
DESCRIPTION:
URL:https://info.turismoderonda.es/agenda/carnaval-de-ronda-2025/
LOCATION:España
CATEGORIES:Carnaval
ATTACH;FMTTYPE=image/png:https://info.turismoderonda.es/wp-content/uploads/2025/02/Carnaval25.png
END:VEVENT
BEGIN:VEVENT
DTSTART;TZID=UTC:20250301T193000
DTEND;TZID=UTC:20250301T193000
DTSTAMP:20260424T142534
CREATED:20250219T121058Z
LAST-MODIFIED:20250219T121101Z
UID:14504-1740857400-1740857400@info.turismoderonda.es
SUMMARY:PREGÓN Y GRAN GALA DEL CARNAVAL EN RONDA
DESCRIPTION:Venta de entradas en la Casa de la Cultura y www.giglon.com.
URL:https://info.turismoderonda.es/agenda/pregon-y-gran-gala-del-carnaval-en-ronda/
LOCATION:Teatro Vicente Espinel\, Alameda del Tajo . Paseo de Orson Wells\, Ronda\, España
CATEGORIES:Carnaval,Gala
ATTACH;FMTTYPE=image/jpeg:https://info.turismoderonda.es/wp-content/uploads/2025/02/CARNAVAL-2025-1.jpg
END:VEVENT
BEGIN:VEVENT
DTSTART;TZID=UTC:20250302T140000
DTEND;TZID=UTC:20250302T140000
DTSTAMP:20260424T142534
CREATED:20250219T122424Z
LAST-MODIFIED:20250219T130840Z
UID:14507-1740924000-1740924000@info.turismoderonda.es
SUMMARY:MIGAS POPULARES DEL CARNAVAL
DESCRIPTION:
URL:https://info.turismoderonda.es/agenda/migas-populares-del-carnaval/
LOCATION:PLAZA DE LOS DESCALZOS\, PLAZA DE LOS DESCALZOS\, RONDA\, Spain
CATEGORIES:Carnaval
ATTACH;FMTTYPE=image/jpeg:https://info.turismoderonda.es/wp-content/uploads/2025/02/CARNAVAL-2025-2.jpg
END:VEVENT
BEGIN:VEVENT
DTSTART;TZID=UTC:20250305T000000
DTEND;TZID=UTC:20250306T000000
DTSTAMP:20260424T142534
CREATED:20250123T114628Z
LAST-MODIFIED:20250123T114632Z
UID:14370-1741132800-1741219200@info.turismoderonda.es
SUMMARY:VII CONCURSO DE INTERPRETACIÓN DE OBRAS DE COMPOSITORAS
DESCRIPTION:
URL:https://info.turismoderonda.es/agenda/vii-concurso-de-interpretacion-de-obras-de-compositoras/
LOCATION:CONSERVATORIO DE MÚSICA «RAMÓN CORRALES»\, Plaza de la Merced nº 2\, Ronda\, Spain
CATEGORIES:Concurso
ATTACH;FMTTYPE=image/jpeg:https://info.turismoderonda.es/wp-content/uploads/2025/01/Marzo-5-y-6.2025-VII-CONCURSO-Interpretacion-de-obras-de-compositoras.jpg
END:VEVENT
BEGIN:VEVENT
DTSTART;TZID=UTC:20250308T110000
DTEND;TZID=UTC:20250308T110000
DTSTAMP:20260424T142534
CREATED:20250219T125401Z
LAST-MODIFIED:20250219T130729Z
UID:14515-1741431600-1741431600@info.turismoderonda.es
SUMMARY:FIESTA INFANTIL DE CARNAVAL "MÁSCARAS Y SONRISAS"
DESCRIPTION:
URL:https://info.turismoderonda.es/agenda/fiesta-infantil-de-carnaval-mascaras-y-sonrisas/
LOCATION:Plaza del Socorro\, Ronda\, 29400\, España
CATEGORIES:Carnaval
ATTACH;FMTTYPE=image/jpeg:https://info.turismoderonda.es/wp-content/uploads/2025/02/CARNAVAL-2025-4.jpg
END:VEVENT
BEGIN:VEVENT
DTSTART;TZID=UTC:20250308T120000
DTEND;TZID=UTC:20250308T120000
DTSTAMP:20260424T142534
CREATED:20250221T131904Z
LAST-MODIFIED:20250221T131907Z
UID:14549-1741435200-1741435200@info.turismoderonda.es
SUMMARY:TRADICIONAL CHORIZADA DE CARNAVAL EN BARRIADA LA UVA
DESCRIPTION:
URL:https://info.turismoderonda.es/agenda/tradicional-chorizada-de-carnaval-en-barriada-la-uva/
LOCATION:Plaza de la Calle El Burgo\, Plaza de la Calle El Burgo\, RONDA\, Spain
CATEGORIES:Carnaval
ATTACH;FMTTYPE=image/jpeg:https://info.turismoderonda.es/wp-content/uploads/2025/02/Marzo-8.2025-Tradicional-Chorizada-en-Barriada-la-UVA.jpg
END:VEVENT
BEGIN:VEVENT
DTSTART;TZID=UTC:20250308T170000
DTEND;TZID=UTC:20250308T170000
DTSTAMP:20260424T142534
CREATED:20250219T123133Z
LAST-MODIFIED:20250219T130521Z
UID:14512-1741453200-1741453200@info.turismoderonda.es
SUMMARY:CABALGATA DE CARNAVAL
DESCRIPTION:Desde Avenida de Málaga
URL:https://info.turismoderonda.es/agenda/cabalgata-de-carnaval-2/
LOCATION:España
CATEGORIES:Cabalgata, pasacalles
ATTACH;FMTTYPE=image/jpeg:https://info.turismoderonda.es/wp-content/uploads/2025/02/CARNAVAL-2025-3.jpg
END:VEVENT
BEGIN:VEVENT
DTSTART;TZID=UTC:20250309T133000
DTEND;TZID=UTC:20250309T133000
DTSTAMP:20260424T142534
CREATED:20250219T130258Z
LAST-MODIFIED:20250219T130302Z
UID:14518-1741527000-1741527000@info.turismoderonda.es
SUMMARY:CALLOS POPULARES\, ACTUACIÓN DE COMPARSA DE CARNAVAL Y QUEMA DEL MUÑECO
DESCRIPTION:
URL:https://info.turismoderonda.es/agenda/callos-populares-actuacion-de-comparsa-de-carnaval-y-quema-del-muneco/
LOCATION:Plaza Teniente Arce\, Plaza Teniente Arce\, Ronda\, 29400\, España
CATEGORIES:Carnaval
ATTACH;FMTTYPE=image/jpeg:https://info.turismoderonda.es/wp-content/uploads/2025/02/CARNAVAL-2025-5.jpg
END:VEVENT
BEGIN:VEVENT
DTSTART;TZID=UTC:20250314T190000
DTEND;TZID=UTC:20250314T190000
DTSTAMP:20260424T142534
CREATED:20250221T132848Z
LAST-MODIFIED:20250221T132851Z
UID:14560-1741978800-1741978800@info.turismoderonda.es
SUMMARY:IV GALA BENÉFICA DE LA ASOCIACIÓN ESPAÑOLA CONTRA EL CANCER
DESCRIPTION:
URL:https://info.turismoderonda.es/agenda/iv-gala-benefica-de-la-asociacion-espanola-contra-el-cancer/
LOCATION:Teatro Vicente Espinel\, Alameda del Tajo . Paseo de Orson Wells\, Ronda\, España
CATEGORIES:Gala
ATTACH;FMTTYPE=image/jpeg:https://info.turismoderonda.es/wp-content/uploads/2025/02/Marzo-14.2025-Gala-Benefica-asociacion-del-cancer.jpg
END:VEVENT
BEGIN:VEVENT
DTSTART;TZID=UTC:20250314T213000
DTEND;TZID=UTC:20250314T213000
DTSTAMP:20260424T142534
CREATED:20250221T132313Z
LAST-MODIFIED:20250221T132315Z
UID:14556-1741987800-1741987800@info.turismoderonda.es
SUMMARY:SEMIFINAL XXXV CONCURSO DE SAETAS CIUDAD DE RONDA
DESCRIPTION:
URL:https://info.turismoderonda.es/agenda/semifinal-xxxv-concurso-de-saetas-ciudad-de-ronda/
LOCATION:Peña Flamenca\, C/ Dolores Ibarruri nº8\, Ronda\, Málaga\, 29400\, España
CATEGORIES:Concurso
ATTACH;FMTTYPE=image/jpeg:https://info.turismoderonda.es/wp-content/uploads/2025/02/Marzo-abril-2025-Concurso-de-Saetas-Ciudad-de-Ronda.jpg
END:VEVENT
END:VCALENDAR