BEGIN:VCALENDAR
VERSION:2.0
PRODID:-//▷ Información Turística de Ronda - ECPv6.15.16//NONSGML v1.0//EN
CALSCALE:GREGORIAN
METHOD:PUBLISH
X-WR-CALNAME:▷ Información Turística de Ronda
X-ORIGINAL-URL:https://info.turismoderonda.es
X-WR-CALDESC:Eventos para ▷ Información Turística de Ronda
REFRESH-INTERVAL;VALUE=DURATION:PT1H
X-Robots-Tag:noindex
X-PUBLISHED-TTL:PT1H
BEGIN:VTIMEZONE
TZID:UTC
BEGIN:STANDARD
TZOFFSETFROM:+0000
TZOFFSETTO:+0000
TZNAME:UTC
DTSTART:20250101T000000
END:STANDARD
END:VTIMEZONE
BEGIN:VEVENT
DTSTART;TZID=UTC:20260622T203000
DTEND;TZID=UTC:20260625T203000
DTSTAMP:20260424T201942
CREATED:20260321T152940Z
LAST-MODIFIED:20260321T152944Z
UID:18504-1782160200-1782419400@info.turismoderonda.es
SUMMARY:Espectáculo Ronda Flamenca
DESCRIPTION:Venta de entradas en la Oficina Municipal de Turismo y en la entrada del espectáculo (Plaza del Socorro nº 12)
URL:https://info.turismoderonda.es/agenda/espectaculo-ronda-flamenca-3-3-3-3-3-2-2-2-3-2-2-2-2-2-2-2-2-2-2/
LOCATION:Círculo de Artistas\, Plaza del Socorro\, 12\, Ronda\, 29400\, España
CATEGORIES:Flamenco
ATTACH;FMTTYPE=image/jpeg:https://info.turismoderonda.es/wp-content/uploads/2026/03/Espectaculo-Ronda-Flamenca-1-scaled.jpeg
END:VEVENT
BEGIN:VEVENT
DTSTART;TZID=UTC:20260626T213000
DTEND;TZID=UTC:20260626T213000
DTSTAMP:20260424T201942
CREATED:20260326T133945Z
LAST-MODIFIED:20260326T133947Z
UID:18623-1782509400-1782509400@info.turismoderonda.es
SUMMARY:XXX Concurso Nacional e Internacional de Cante y Baile Aniya la Gitana de Ronda
DESCRIPTION:
URL:https://info.turismoderonda.es/agenda/xxx-concurso-nacional-e-internacional-de-cante-y-baile-aniya-la-gitana-de-ronda-3-2-2-2-2-2-2-2-2/
LOCATION:Peña Flamenca Ronda\, C. Dolores Ibárruri\, 8\, 29400 Ronda\, Málaga\, Ronda\, 29400\, Spain
CATEGORIES:Flamenco
ATTACH;FMTTYPE=image/jpeg:https://info.turismoderonda.es/wp-content/uploads/2026/03/Abril-17-al-16-junio-Concurso-Aniya-la-Gitana.jpg
END:VEVENT
BEGIN:VEVENT
DTSTART;TZID=UTC:20260627T203000
DTEND;TZID=UTC:20260627T203000
DTSTAMP:20260424T201942
CREATED:20260321T153042Z
LAST-MODIFIED:20260321T153045Z
UID:18506-1782592200-1782592200@info.turismoderonda.es
SUMMARY:Espectáculo Ronda Flamenca
DESCRIPTION:Venta de entradas en la Oficina Municipal de Turismo y en la entrada del espectáculo (Plaza del Socorro nº 12)
URL:https://info.turismoderonda.es/agenda/espectaculo-ronda-flamenca-3-3-3-3-3-2-2-2-3-2-2-2-2-2-2-2-2-2-2-2/
LOCATION:Círculo de Artistas\, Plaza del Socorro\, 12\, Ronda\, 29400\, España
CATEGORIES:Flamenco
ATTACH;FMTTYPE=image/jpeg:https://info.turismoderonda.es/wp-content/uploads/2026/03/Espectaculo-Ronda-Flamenca-1-scaled.jpeg
END:VEVENT
BEGIN:VEVENT
DTSTART;TZID=UTC:20260627T203000
DTEND;TZID=UTC:20260627T203000
DTSTAMP:20260424T201942
CREATED:20260408T083827Z
LAST-MODIFIED:20260408T083831Z
UID:18973-1782592200-1782592200@info.turismoderonda.es
SUMMARY:Musical "Los Descendientes"
DESCRIPTION:Venta de entradas en www.giglon.com y en Entrebambalinas ( Pasaje Poeta Pedro Salinas).
URL:https://info.turismoderonda.es/agenda/musical-los-descendientes/
LOCATION:Teatro Municipal Vicente Espinel\, P.º Blas Infante\, 29400 Ronda\, Málaga\, Ronda\, 29400\, Spain
CATEGORIES:Musical
ATTACH;FMTTYPE=image/jpeg:https://info.turismoderonda.es/wp-content/uploads/2026/04/Junio-27-2026-Musical-Los-Descendientes.jpg
END:VEVENT
BEGIN:VEVENT
DTSTART;TZID=UTC:20260629T203000
DTEND;TZID=UTC:20260702T203000
DTSTAMP:20260424T201942
CREATED:20260321T153743Z
LAST-MODIFIED:20260321T153746Z
UID:18508-1782765000-1783024200@info.turismoderonda.es
SUMMARY:Espectáculo Ronda Flamenca
DESCRIPTION:Venta de entradas en la Oficina Municipal de Turismo y en la entrada del espectáculo (Plaza del Socorro nº 12)
URL:https://info.turismoderonda.es/agenda/espectaculo-ronda-flamenca-3-3-3-3-3-2-2-2-3-2-2-2-2-2-2-2-2-2-2-2-2/
LOCATION:Círculo de Artistas\, Plaza del Socorro\, 12\, Ronda\, 29400\, España
CATEGORIES:Flamenco
ATTACH;FMTTYPE=image/jpeg:https://info.turismoderonda.es/wp-content/uploads/2026/03/Espectaculo-Ronda-Flamenca-1-scaled.jpeg
END:VEVENT
BEGIN:VEVENT
DTSTART;TZID=UTC:20260630T203000
DTEND;TZID=UTC:20260630T203000
DTSTAMP:20260424T201942
CREATED:20260410T160304Z
LAST-MODIFIED:20260410T160308Z
UID:19071-1782851400-1782851400@info.turismoderonda.es
SUMMARY:XXVI Semana de la Música de Ronda. Concierto  de Ensemble Pierrot y la soprano Ruth Rosique.
DESCRIPTION:Información y venta de entradas en www.giglon.com\, www.musicaronda.com\, www.encuentromusicafilosofia.org
URL:https://info.turismoderonda.es/agenda/xxvi-semana-de-la-musica-de-ronda-concierto-de-ensemble-pierrot-y-la-soprano-ruth-rosique/
LOCATION:Biblioteca Real Maestranza de Caballería de Ronda\, Calle Virgen de la Paz nº17\, Ronda\, 29400\, España
CATEGORIES:Concierto
ATTACH;FMTTYPE=image/png:https://info.turismoderonda.es/wp-content/uploads/2026/04/Junio-30-a-julio-3-2026-XXVI-Semana-de-la-Musica.png
END:VEVENT
BEGIN:VEVENT
DTSTART;TZID=UTC:20260701T203000
DTEND;TZID=UTC:20260701T203000
DTSTAMP:20260424T201942
CREATED:20260410T163415Z
LAST-MODIFIED:20260410T163418Z
UID:19074-1782937800-1782937800@info.turismoderonda.es
SUMMARY:XXVI Semana de la Música de Ronda. Concierto  de piano de Homero Francesch.
DESCRIPTION:Información y venta de entradas en www.giglon.com\, www.musicaronda.com\, www.encuentromusicafilosofia.org
URL:https://info.turismoderonda.es/agenda/xxvi-semana-de-la-musica-de-ronda-concierto-de-piano-de-homero-francesch/
LOCATION:Biblioteca Real Maestranza de Caballería de Ronda\, Calle Virgen de la Paz nº17\, Ronda\, 29400\, España
CATEGORIES:Concierto
ATTACH;FMTTYPE=image/png:https://info.turismoderonda.es/wp-content/uploads/2026/04/Junio-30-a-julio-3-2026-XXVI-Semana-de-la-Musica.png
END:VEVENT
BEGIN:VEVENT
DTSTART;TZID=UTC:20260704T203000
DTEND;TZID=UTC:20260704T203000
DTSTAMP:20260424T201942
CREATED:20260321T155812Z
LAST-MODIFIED:20260321T155815Z
UID:18510-1783197000-1783197000@info.turismoderonda.es
SUMMARY:Espectáculo Ronda Flamenca
DESCRIPTION:Venta de entradas en la Oficina Municipal de Turismo y en la entrada del espectáculo (Plaza del Socorro nº 12)
URL:https://info.turismoderonda.es/agenda/espectaculo-ronda-flamenca-3-3-3-3-3-2-2-2-3-2-2-2-2-2-2-2-2-2-2-2-2-2/
LOCATION:Círculo de Artistas\, Plaza del Socorro\, 12\, Ronda\, 29400\, España
CATEGORIES:Flamenco
ATTACH;FMTTYPE=image/jpeg:https://info.turismoderonda.es/wp-content/uploads/2026/03/Espectaculo-Ronda-Flamenca-1-scaled.jpeg
END:VEVENT
BEGIN:VEVENT
DTSTART;TZID=UTC:20260706T203000
DTEND;TZID=UTC:20260709T203000
DTSTAMP:20260424T201942
CREATED:20260321T160219Z
LAST-MODIFIED:20260321T160222Z
UID:18514-1783369800-1783629000@info.turismoderonda.es
SUMMARY:Espectáculo Ronda Flamenca
DESCRIPTION:Venta de entradas en la Oficina Municipal de Turismo y en la entrada del espectáculo (Plaza del Socorro nº 12)
URL:https://info.turismoderonda.es/agenda/espectaculo-ronda-flamenca-3-3-3-3-3-2-2-2-3-2-2-2-2-2-2-2-2-2-2-2-2-2-2-2/
LOCATION:Círculo de Artistas\, Plaza del Socorro\, 12\, Ronda\, 29400\, España
CATEGORIES:Flamenco
ATTACH;FMTTYPE=image/jpeg:https://info.turismoderonda.es/wp-content/uploads/2026/03/Espectaculo-Ronda-Flamenca-1-scaled.jpeg
END:VEVENT
BEGIN:VEVENT
DTSTART;TZID=UTC:20260711T203000
DTEND;TZID=UTC:20260711T203000
DTSTAMP:20260424T201942
CREATED:20260321T155944Z
LAST-MODIFIED:20260321T160100Z
UID:18512-1783801800-1783801800@info.turismoderonda.es
SUMMARY:Espectáculo Ronda Flamenca
DESCRIPTION:Venta de entradas en la Oficina Municipal de Turismo y en la entrada del espectáculo (Plaza del Socorro nº 12)
URL:https://info.turismoderonda.es/agenda/espectaculo-ronda-flamenca-3-3-3-3-3-2-2-2-3-2-2-2-2-2-2-2-2-2-2-2-2-2-2/
LOCATION:Círculo de Artistas\, Plaza del Socorro\, 12\, Ronda\, 29400\, España
CATEGORIES:Flamenco
ATTACH;FMTTYPE=image/jpeg:https://info.turismoderonda.es/wp-content/uploads/2026/03/Espectaculo-Ronda-Flamenca-1-scaled.jpeg
END:VEVENT
BEGIN:VEVENT
DTSTART;TZID=UTC:20260713T203000
DTEND;TZID=UTC:20260716T203000
DTSTAMP:20260424T201942
CREATED:20260321T160730Z
LAST-MODIFIED:20260321T160732Z
UID:18516-1783974600-1784233800@info.turismoderonda.es
SUMMARY:Espectáculo Ronda Flamenca
DESCRIPTION:Venta de entradas en la Oficina Municipal de Turismo y en la entrada del espectáculo (Plaza del Socorro nº 12)
URL:https://info.turismoderonda.es/agenda/espectaculo-ronda-flamenca-3-3-3-3-3-2-2-2-3-2-2-2-2-2-2-2-2-2-2-2-2-2-2-3/
LOCATION:Círculo de Artistas\, Plaza del Socorro\, 12\, Ronda\, 29400\, España
CATEGORIES:Flamenco
ATTACH;FMTTYPE=image/jpeg:https://info.turismoderonda.es/wp-content/uploads/2026/03/Espectaculo-Ronda-Flamenca-1-scaled.jpeg
END:VEVENT
BEGIN:VEVENT
DTSTART;TZID=UTC:20260718T203000
DTEND;TZID=UTC:20260718T203000
DTSTAMP:20260424T201942
CREATED:20260321T160843Z
LAST-MODIFIED:20260321T160846Z
UID:18518-1784406600-1784406600@info.turismoderonda.es
SUMMARY:Espectáculo Ronda Flamenca
DESCRIPTION:Venta de entradas en la Oficina Municipal de Turismo y en la entrada del espectáculo (Plaza del Socorro nº 12)
URL:https://info.turismoderonda.es/agenda/espectaculo-ronda-flamenca-3-3-3-3-3-2-2-2-3-2-2-2-2-2-2-2-2-2-2-2-2-2-2-4/
LOCATION:Círculo de Artistas\, Plaza del Socorro\, 12\, Ronda\, 29400\, España
CATEGORIES:Flamenco
ATTACH;FMTTYPE=image/jpeg:https://info.turismoderonda.es/wp-content/uploads/2026/03/Espectaculo-Ronda-Flamenca-1-scaled.jpeg
END:VEVENT
BEGIN:VEVENT
DTSTART;TZID=UTC:20260720T203000
DTEND;TZID=UTC:20260723T203000
DTSTAMP:20260424T201942
CREATED:20260321T160951Z
LAST-MODIFIED:20260321T160954Z
UID:18520-1784579400-1784838600@info.turismoderonda.es
SUMMARY:Espectáculo Ronda Flamenca
DESCRIPTION:Venta de entradas en la Oficina Municipal de Turismo y en la entrada del espectáculo (Plaza del Socorro nº 12)
URL:https://info.turismoderonda.es/agenda/espectaculo-ronda-flamenca-3-3-3-3-3-2-2-2-3-2-2-2-2-2-2-2-2-2-2-2-2-2-2-4-2/
LOCATION:Círculo de Artistas\, Plaza del Socorro\, 12\, Ronda\, 29400\, España
CATEGORIES:Flamenco
ATTACH;FMTTYPE=image/jpeg:https://info.turismoderonda.es/wp-content/uploads/2026/03/Espectaculo-Ronda-Flamenca-1-scaled.jpeg
END:VEVENT
BEGIN:VEVENT
DTSTART;TZID=UTC:20260725T203000
DTEND;TZID=UTC:20260725T203000
DTSTAMP:20260424T201942
CREATED:20260321T161633Z
LAST-MODIFIED:20260321T161636Z
UID:18522-1785011400-1785011400@info.turismoderonda.es
SUMMARY:Espectáculo Ronda Flamenca
DESCRIPTION:Venta de entradas en la Oficina Municipal de Turismo y en la entrada del espectáculo (Plaza del Socorro nº 12)
URL:https://info.turismoderonda.es/agenda/espectaculo-ronda-flamenca-3-3-3-3-3-2-2-2-3-2-2-2-2-2-2-2-2-2-2-2-2-2-2-4-2-2/
LOCATION:Círculo de Artistas\, Plaza del Socorro\, 12\, Ronda\, 29400\, España
CATEGORIES:Flamenco
ATTACH;FMTTYPE=image/jpeg:https://info.turismoderonda.es/wp-content/uploads/2026/03/Espectaculo-Ronda-Flamenca-1-scaled.jpeg
END:VEVENT
BEGIN:VEVENT
DTSTART;TZID=UTC:20260727T203000
DTEND;TZID=UTC:20260730T203000
DTSTAMP:20260424T201942
CREATED:20260321T162550Z
LAST-MODIFIED:20260321T162553Z
UID:18524-1785184200-1785443400@info.turismoderonda.es
SUMMARY:Espectáculo Ronda Flamenca
DESCRIPTION:Venta de entradas en la Oficina Municipal de Turismo y en la entrada del espectáculo (Plaza del Socorro nº 12)
URL:https://info.turismoderonda.es/agenda/espectaculo-ronda-flamenca-3-3-3-3-3-2-2-2-3-2-2-2-2-2-2-2-2-2-2-2-2-2-2-4-2-2-2/
LOCATION:Círculo de Artistas\, Plaza del Socorro\, 12\, Ronda\, 29400\, España
CATEGORIES:Flamenco
ATTACH;FMTTYPE=image/jpeg:https://info.turismoderonda.es/wp-content/uploads/2026/03/Espectaculo-Ronda-Flamenca-1-scaled.jpeg
END:VEVENT
BEGIN:VEVENT
DTSTART;TZID=UTC:20260801T203000
DTEND;TZID=UTC:20260801T203000
DTSTAMP:20260424T201942
CREATED:20260321T162950Z
LAST-MODIFIED:20260321T162954Z
UID:18526-1785616200-1785616200@info.turismoderonda.es
SUMMARY:Espectáculo Ronda Flamenca
DESCRIPTION:Venta de entradas en la Oficina Municipal de Turismo y en la entrada del espectáculo (Plaza del Socorro nº 12)
URL:https://info.turismoderonda.es/agenda/espectaculo-ronda-flamenca-3-3-3-3-3-2-2-2-3-2-2-2-2-2-2-2-2-2-2-2-2-2-2-4-2-2-2-2/
LOCATION:Círculo de Artistas\, Plaza del Socorro\, 12\, Ronda\, 29400\, España
CATEGORIES:Flamenco
ATTACH;FMTTYPE=image/jpeg:https://info.turismoderonda.es/wp-content/uploads/2026/03/Espectaculo-Ronda-Flamenca-1-scaled.jpeg
END:VEVENT
BEGIN:VEVENT
DTSTART;TZID=UTC:20260803T203000
DTEND;TZID=UTC:20260806T203000
DTSTAMP:20260424T201942
CREATED:20260321T163113Z
LAST-MODIFIED:20260321T163115Z
UID:18528-1785789000-1786048200@info.turismoderonda.es
SUMMARY:Espectáculo Ronda Flamenca
DESCRIPTION:Venta de entradas en la Oficina Municipal de Turismo y en la entrada del espectáculo (Plaza del Socorro nº 12)
URL:https://info.turismoderonda.es/agenda/espectaculo-ronda-flamenca-3-3-3-3-3-2-2-2-3-2-2-2-2-2-2-2-2-2-2-2-2-2-2-4-2-2-2-2-2/
LOCATION:Círculo de Artistas\, Plaza del Socorro\, 12\, Ronda\, 29400\, España
CATEGORIES:Flamenco
ATTACH;FMTTYPE=image/jpeg:https://info.turismoderonda.es/wp-content/uploads/2026/03/Espectaculo-Ronda-Flamenca-1-scaled.jpeg
END:VEVENT
BEGIN:VEVENT
DTSTART;TZID=UTC:20260808T203000
DTEND;TZID=UTC:20260808T203000
DTSTAMP:20260424T201942
CREATED:20260321T163738Z
LAST-MODIFIED:20260321T163741Z
UID:18530-1786221000-1786221000@info.turismoderonda.es
SUMMARY:Espectáculo Ronda Flamenca
DESCRIPTION:Venta de entradas en la Oficina Municipal de Turismo y en la entrada del espectáculo (Plaza del Socorro nº 12)
URL:https://info.turismoderonda.es/agenda/espectaculo-ronda-flamenca-3-3-3-3-3-2-2-2-3-2-2-2-2-2-2-2-2-2-2-2-2-2-2-4-2-2-2-2-2-2/
LOCATION:Círculo de Artistas\, Plaza del Socorro\, 12\, Ronda\, 29400\, España
CATEGORIES:Flamenco
ATTACH;FMTTYPE=image/jpeg:https://info.turismoderonda.es/wp-content/uploads/2026/03/Espectaculo-Ronda-Flamenca-1-scaled.jpeg
END:VEVENT
BEGIN:VEVENT
DTSTART;TZID=UTC:20260810T203000
DTEND;TZID=UTC:20260813T203000
DTSTAMP:20260424T201942
CREATED:20260322T101745Z
LAST-MODIFIED:20260322T101747Z
UID:18532-1786393800-1786653000@info.turismoderonda.es
SUMMARY:Espectáculo Ronda Flamenca
DESCRIPTION:Venta de entradas en la Oficina Municipal de Turismo y en la entrada del espectáculo (Plaza del Socorro nº 12)
URL:https://info.turismoderonda.es/agenda/espectaculo-ronda-flamenca-3-3-3-3-3-2-2-2-3-2-2-2-2-2-2-2-2-2-2-2-2-2-2-4-2-2-2-2-2-2-2/
LOCATION:Círculo de Artistas\, Plaza del Socorro\, 12\, Ronda\, 29400\, España
CATEGORIES:Flamenco
ATTACH;FMTTYPE=image/jpeg:https://info.turismoderonda.es/wp-content/uploads/2026/03/Espectaculo-Ronda-Flamenca-1-scaled.jpeg
END:VEVENT
BEGIN:VEVENT
DTSTART;TZID=UTC:20260815T203000
DTEND;TZID=UTC:20260815T203000
DTSTAMP:20260424T201942
CREATED:20260322T102150Z
LAST-MODIFIED:20260322T102154Z
UID:18534-1786825800-1786825800@info.turismoderonda.es
SUMMARY:Espectáculo Ronda Flamenca
DESCRIPTION:Venta de entradas en la Oficina Municipal de Turismo y en la entrada del espectáculo (Plaza del Socorro nº 12)
URL:https://info.turismoderonda.es/agenda/espectaculo-ronda-flamenca-3-3-3-3-3-2-2-2-3-2-2-2-2-2-2-2-2-2-2-2-2-2-2-4-2-2-2-2-2-2-2-2/
LOCATION:Círculo de Artistas\, Plaza del Socorro\, 12\, Ronda\, 29400\, España
CATEGORIES:Flamenco
ATTACH;FMTTYPE=image/jpeg:https://info.turismoderonda.es/wp-content/uploads/2026/03/Espectaculo-Ronda-Flamenca-1-scaled.jpeg
END:VEVENT
BEGIN:VEVENT
DTSTART;TZID=UTC:20260817T203000
DTEND;TZID=UTC:20260820T203000
DTSTAMP:20260424T201942
CREATED:20260322T105123Z
LAST-MODIFIED:20260322T105126Z
UID:18536-1786998600-1787257800@info.turismoderonda.es
SUMMARY:Espectáculo Ronda Flamenca
DESCRIPTION:Venta de entradas en la Oficina Municipal de Turismo y en la entrada del espectáculo (Plaza del Socorro nº 12)
URL:https://info.turismoderonda.es/agenda/espectaculo-ronda-flamenca-3-3-3-3-3-2-2-2-3-2-2-2-2-2-2-2-2-2-2-2-2-2-2-4-2-2-2-2-2-2-2-2-2/
LOCATION:Círculo de Artistas\, Plaza del Socorro\, 12\, Ronda\, 29400\, España
CATEGORIES:Flamenco
ATTACH;FMTTYPE=image/jpeg:https://info.turismoderonda.es/wp-content/uploads/2026/03/Espectaculo-Ronda-Flamenca-1-scaled.jpeg
END:VEVENT
BEGIN:VEVENT
DTSTART;TZID=UTC:20260822T203000
DTEND;TZID=UTC:20260822T203000
DTSTAMP:20260424T201942
CREATED:20260322T105311Z
LAST-MODIFIED:20260322T105314Z
UID:18538-1787430600-1787430600@info.turismoderonda.es
SUMMARY:Espectáculo Ronda Flamenca
DESCRIPTION:Venta de entradas en la Oficina Municipal de Turismo y en la entrada del espectáculo (Plaza del Socorro nº 12)
URL:https://info.turismoderonda.es/agenda/espectaculo-ronda-flamenca-3-3-3-3-3-2-2-2-3-2-2-2-2-2-2-2-2-2-2-2-2-2-2-4-2-2-2-2-2-2-2-2-2-2/
LOCATION:Círculo de Artistas\, Plaza del Socorro\, 12\, Ronda\, 29400\, España
CATEGORIES:Flamenco
ATTACH;FMTTYPE=image/jpeg:https://info.turismoderonda.es/wp-content/uploads/2026/03/Espectaculo-Ronda-Flamenca-1-scaled.jpeg
END:VEVENT
BEGIN:VEVENT
DTSTART;TZID=UTC:20260824T203000
DTEND;TZID=UTC:20260827T203000
DTSTAMP:20260424T201942
CREATED:20260322T105538Z
LAST-MODIFIED:20260322T105541Z
UID:18540-1787603400-1787862600@info.turismoderonda.es
SUMMARY:Espectáculo Ronda Flamenca
DESCRIPTION:Venta de entradas en la Oficina Municipal de Turismo y en la entrada del espectáculo (Plaza del Socorro nº 12)
URL:https://info.turismoderonda.es/agenda/espectaculo-ronda-flamenca-3-3-3-3-3-2-2-2-3-2-2-2-2-2-2-2-2-2-2-2-2-2-2-4-2-2-2-2-2-2-2-2-2-2-2/
LOCATION:Círculo de Artistas\, Plaza del Socorro\, 12\, Ronda\, 29400\, España
CATEGORIES:Flamenco
ATTACH;FMTTYPE=image/jpeg:https://info.turismoderonda.es/wp-content/uploads/2026/03/Espectaculo-Ronda-Flamenca-1-scaled.jpeg
END:VEVENT
BEGIN:VEVENT
DTSTART;TZID=UTC:20260829T203000
DTEND;TZID=UTC:20260829T203000
DTSTAMP:20260424T201942
CREATED:20260322T121516Z
LAST-MODIFIED:20260322T121519Z
UID:18542-1788035400-1788035400@info.turismoderonda.es
SUMMARY:Espectáculo Ronda Flamenca
DESCRIPTION:Venta de entradas en la Oficina Municipal de Turismo y en la entrada del espectáculo (Plaza del Socorro nº 12)
URL:https://info.turismoderonda.es/agenda/espectaculo-ronda-flamenca-3-3-3-3-3-2-2-2-3-2-2-2-2-2-2-2-2-2-2-2-2-2-2-4-2-2-2-2-2-2-2-2-2-2-2-2/
LOCATION:Círculo de Artistas\, Plaza del Socorro\, 12\, Ronda\, 29400\, España
CATEGORIES:Flamenco
ATTACH;FMTTYPE=image/jpeg:https://info.turismoderonda.es/wp-content/uploads/2026/03/Espectaculo-Ronda-Flamenca-1-scaled.jpeg
END:VEVENT
BEGIN:VEVENT
DTSTART;TZID=UTC:20260904T180000
DTEND;TZID=UTC:20260904T180000
DTSTAMP:20260424T201942
CREATED:20260305T100733Z
LAST-MODIFIED:20260305T100738Z
UID:18202-1788544800-1788544800@info.turismoderonda.es
SUMMARY:Feria de Pedro Romero 2026. Extraordinaria novillada sin picadores.
DESCRIPTION:Información y venta de entradas en www.riveraordonez.com
URL:https://info.turismoderonda.es/agenda/feria-de-pedro-romero-2026-extraordinaria-novillada-sin-picadores/
LOCATION:plaza de toros\, Avenida Virgen de la Paz\, Ronda\, España\, Spain
CATEGORIES:Feria
ATTACH;FMTTYPE=image/jpeg:https://info.turismoderonda.es/wp-content/uploads/2026/03/67-Tradicional-corrida-Goyesca-2026.jpg
END:VEVENT
BEGIN:VEVENT
DTSTART;TZID=UTC:20260905T113000
DTEND;TZID=UTC:20260905T113000
DTSTAMP:20260424T201942
CREATED:20260305T101950Z
LAST-MODIFIED:20260305T101954Z
UID:18205-1788607800-1788607800@info.turismoderonda.es
SUMMARY:Feria de Pedro Romero 2026. 42º Corrida Rondeña de Rejones
DESCRIPTION:Información y venta de entradas en www.riveraordonez.com
URL:https://info.turismoderonda.es/agenda/feria-de-pedro-romero-2026-42o-corrida-rondena-de-rejones/
LOCATION:plaza de toros\, Avenida Virgen de la Paz\, Ronda\, España\, Spain
CATEGORIES:Feria
ATTACH;FMTTYPE=image/jpeg:https://info.turismoderonda.es/wp-content/uploads/2026/03/67-Tradicional-corrida-Goyesca-2026.jpg
END:VEVENT
BEGIN:VEVENT
DTSTART;TZID=UTC:20260905T180000
DTEND;TZID=UTC:20260905T180000
DTSTAMP:20260424T201942
CREATED:20260305T102956Z
LAST-MODIFIED:20260305T103003Z
UID:18207-1788631200-1788631200@info.turismoderonda.es
SUMMARY:Feria de Pedro Romero 2026.          67 Tradicional Corrida Goyesca.
DESCRIPTION:Información y venta de entradas en www.riveraordonez.com
URL:https://info.turismoderonda.es/agenda/feria-de-pedro-romero-2026-67-tradicional-corrida-goyesca/
LOCATION:plaza de toros\, Avenida Virgen de la Paz\, Ronda\, España\, Spain
CATEGORIES:Feria
ATTACH;FMTTYPE=image/jpeg:https://info.turismoderonda.es/wp-content/uploads/2026/03/67-Tradicional-corrida-Goyesca-2026.jpg
END:VEVENT
BEGIN:VEVENT
DTSTART;TZID=UTC:20260926T190000
DTEND;TZID=UTC:20260926T220000
DTSTAMP:20260424T201942
CREATED:20260424T110726Z
LAST-MODIFIED:20260424T110730Z
UID:19792-1790449200-1790460000@info.turismoderonda.es
SUMMARY:Procesión del Santísimo Rosario de Nuestra Señora de la Paz y Virgen de la Aurora.
DESCRIPTION:
URL:https://info.turismoderonda.es/agenda/procesion-del-santisimo-rosario-de-nuestra-senora-de-la-paz-y-virgen-de-la-aurora/
LOCATION:Colegiata Santa María La Mayor de Ronda\, Plaza Duquesa de Parcent\, Ronda\, 29400
CATEGORIES:Recepción
ATTACH;FMTTYPE=image/jpeg:https://info.turismoderonda.es/wp-content/uploads/2026/04/Procesion-Hermandad-de-la-Aurora.jpg
END:VEVENT
END:VCALENDAR